BEGIN:VCALENDAR
VERSION:2.0
PRODID:-//ChamberMaster//Event Calendar 2.0//EN
METHOD:PUBLISH
X-PUBLISHED-TTL:P1H
REFRESH-INTERVAL:P1H
CALSCALE:GREGORIAN
BEGIN:VTIMEZONE
TZID:America/Chicago
BEGIN:DAYLIGHT
RRULE:FREQ=YEARLY;BYMONTH=3;BYDAY=2SU
DTSTART:20070101T000000
TZOFFSETFROM:-0600
TZOFFSETTO:-0500
TZNAME:Central Daylight Time
END:DAYLIGHT
BEGIN:STANDARD
RRULE:FREQ=YEARLY;BYMONTH=11;BYDAY=1SU
DTSTART:20070101T000000
TZOFFSETFROM:-0500
TZOFFSETTO:-0600
TZNAME:Central Standard Time
END:STANDARD
END:VTIMEZONE
BEGIN:VEVENT
DTSTART;TZID=America/Chicago:20260507T073000
DTEND;TZID=America/Chicago:20260507T090000
X-MICROSOFT-CDO-ALLDAYEVENT:FALSE
SUMMARY:Education is Everybody's Business Breakfast 2026
DESCRIPTION:It's time for the Foundation for the Iowa City Community School District's Annual Education is Everybody's Business Breakfast.E.E.B. brings businesses\, individuals\, and organizations together to celebrate and support our schools and educators.Breakfast will be followed by an 8 AM program with remarks from Superintendent Matt Degner\, Principal Panelists John Bacon\, Mitch Gross\, Justin Colbert\, and Ann Browning\, and special Friends of Education award presentations to Charlie Funk and the Eberly family.Sponsorships and individual tickets available here!
X-ALT-DESC;FMTTYPE=text/html:<!DOCTYPE html><html><head><title></title></head><body aria-disabled="false"><p>It&#39\;s time for the Foundation for the Iowa City Community School District&#39\;s Annual Education is Everybody&rsquo\;s Business Breakfast.</p><p>E.E.B. brings businesses\, individuals\, and organizations together to celebrate and support our schools and educators.</p><p>Breakfast will be followed by an 8 AM program with remarks from Superintendent Matt Degner\, Principal Panelists John Bacon\, Mitch Gross\, Justin Colbert\, and Ann Browning\, and special Friends of Education award presentations to Charlie Funk and the Eberly family.</p><p><a fr-original-style="" href="https://lp.constantcontactpages.com/ev/reg/ahwng7p/lp/f01e2c42-9a01-4d99-967e-7b9d09ddc001" rel="noopener noreferrer" style="user-select: auto\;" target="_blank"><strong fr-original-style="" style="font-weight: 700\;"><u>Sponsorships and individual tickets available here!</u></strong></a></p></body></html>
LOCATION:925 Liberty Way North Liberty 52317
UID:e.1679.1448188
SEQUENCE:3
DTSTAMP:20260425T171611Z
URL:https://member.iowacityarea.com/eventscalendar/Details/education-is-everybody-s-business-breakfast-2026-1715190?sourceTypeId=Hub
END:VEVENT
END:VCALENDAR
